BEGIN:VCALENDAR
VERSION:2.0
PRODID:-//Milton Parish Council//Meeting Calendar//EN
CALSCALE:GREGORIAN
METHOD:PUBLISH
BEGIN:VEVENT
UID:71835-20261214@miltonparishcouncil.gov.uk
DTSTAMP:20260425T151857Z
DTSTART;VALUE=DATE:20261214
DTEND;VALUE=DATE:20261215
SUMMARY:Planning Monday 14 December 2026 at 7pm
DESCRIPTION:Planning Meeting\nView details: https://miltonparishcouncil.gov.uk/meetings/planning-monday-14-december-2026-at-7pm/
URL:https://miltonparishcouncil.gov.uk/meetings/planning-monday-14-december-2026-at-7pm/
END:VEVENT
END:VCALENDAR
