BEGIN:VCALENDAR
VERSION:2.0
PRODID:-//Milton Parish Council//Meeting Calendar//EN
CALSCALE:GREGORIAN
METHOD:PUBLISH
BEGIN:VEVENT
UID:71833-20261116@miltonparishcouncil.gov.uk
DTSTAMP:20260425T115517Z
DTSTART;VALUE=DATE:20261116
DTEND;VALUE=DATE:20261117
SUMMARY:Staffing Monday 16 November 2026 at 7:30pm
DESCRIPTION:Staffing Meeting\nView details: https://miltonparishcouncil.gov.uk/meetings/staffing-monday-16-november-2026-at-730pm/
URL:https://miltonparishcouncil.gov.uk/meetings/staffing-monday-16-november-2026-at-730pm/
END:VEVENT
END:VCALENDAR
