BEGIN:VCALENDAR
VERSION:2.0
PRODID:-//Milton Parish Council//Meeting Calendar//EN
CALSCALE:GREGORIAN
METHOD:PUBLISH
BEGIN:VEVENT
UID:71830-20261019@miltonparishcouncil.gov.uk
DTSTAMP:20260425T115434Z
DTSTART;VALUE=DATE:20261019
DTEND;VALUE=DATE:20261020
SUMMARY:Finance &#038\\; Administration Monday 19 October 2026 at 7:30pm
DESCRIPTION:Finance &amp; Administration Meeting\nView details: https://miltonparishcouncil.gov.uk/meetings/finance-administration-monday-19-october-2026-at-730pm/
URL:https://miltonparishcouncil.gov.uk/meetings/finance-administration-monday-19-october-2026-at-730pm/
END:VEVENT
END:VCALENDAR
