BEGIN:VCALENDAR
VERSION:2.0
PRODID:-//Milton Parish Council//Meeting Calendar//EN
CALSCALE:GREGORIAN
METHOD:PUBLISH
BEGIN:VEVENT
UID:71827-20260921@miltonparishcouncil.gov.uk
DTSTAMP:20260425T115447Z
DTSTART;VALUE=DATE:20260921
DTEND;VALUE=DATE:20260922
SUMMARY:Maintenance Monday 21 September 2026 at 7:30pm
DESCRIPTION:Maintenance Meeting\nView details: https://miltonparishcouncil.gov.uk/meetings/maintenance-monday-21-september-2026-at-730pm/
URL:https://miltonparishcouncil.gov.uk/meetings/maintenance-monday-21-september-2026-at-730pm/
END:VEVENT
END:VCALENDAR
