BEGIN:VCALENDAR
VERSION:2.0
PRODID:-//Milton Parish Council//Meeting Calendar//EN
CALSCALE:GREGORIAN
METHOD:PUBLISH
BEGIN:VEVENT
UID:71823-20260727@miltonparishcouncil.gov.uk
DTSTAMP:20260425T115838Z
DTSTART;VALUE=DATE:20260727
DTEND;VALUE=DATE:20260728
SUMMARY:Finance &#038\\; Administration Monday 27 July 2026 at 7:30pm
DESCRIPTION:Finance &amp; Administration Meeting\nView details: https://miltonparishcouncil.gov.uk/meetings/finance-administration-monday-27-july-2026-at-730pm/
URL:https://miltonparishcouncil.gov.uk/meetings/finance-administration-monday-27-july-2026-at-730pm/
END:VEVENT
END:VCALENDAR
