BEGIN:VCALENDAR
VERSION:2.0
PRODID:-//Milton Parish Council//Meeting Calendar//EN
CALSCALE:GREGORIAN
METHOD:PUBLISH
BEGIN:VEVENT
UID:71818-20260615@miltonparishcouncil.gov.uk
DTSTAMP:20260425T152930Z
DTSTART;VALUE=DATE:20260615
DTEND;VALUE=DATE:20260616
SUMMARY:Planning Monday 15 June 2026 at 7pm
DESCRIPTION:Planning Meeting\nView details: https://miltonparishcouncil.gov.uk/meetings/planning-monday-15-june-2026-at-7pm/
URL:https://miltonparishcouncil.gov.uk/meetings/planning-monday-15-june-2026-at-7pm/
END:VEVENT
END:VCALENDAR
