BEGIN:VCALENDAR
VERSION:2.0
PRODID:-//Milton Parish Council//Meeting Calendar//EN
CALSCALE:GREGORIAN
METHOD:PUBLISH
BEGIN:VEVENT
UID:71811-20260420@miltonparishcouncil.gov.uk
DTSTAMP:20260425T135608Z
DTSTART;VALUE=DATE:20260420
DTEND;VALUE=DATE:20260421
SUMMARY:Finance &#038\\; Admin Monday 20 April 2026 at 7:30pm
DESCRIPTION:Finance &amp; Administration Meeting\nView details: https://miltonparishcouncil.gov.uk/meetings/finance-admin-monday-20-april-2026-at-730pm/
URL:https://miltonparishcouncil.gov.uk/meetings/finance-admin-monday-20-april-2026-at-730pm/
END:VEVENT
END:VCALENDAR
