BEGIN:VCALENDAR
VERSION:2.0
PRODID:-//Milton Parish Council//Meeting Calendar//EN
CALSCALE:GREGORIAN
METHOD:PUBLISH
BEGIN:VEVENT
UID:71800-20260316@miltonparishcouncil.gov.uk
DTSTAMP:20260425T154338Z
DTSTART;VALUE=DATE:20260316
DTEND;VALUE=DATE:20260317
SUMMARY:Planning 16 March 2026 at 7pm
DESCRIPTION:Planning Meeting\nView details: https://miltonparishcouncil.gov.uk/meetings/planning-7pm/
URL:https://miltonparishcouncil.gov.uk/meetings/planning-7pm/
END:VEVENT
END:VCALENDAR
