BEGIN:VCALENDAR
VERSION:2.0
PRODID:-//Milton Parish Council//Meeting Calendar//EN
CALSCALE:GREGORIAN
METHOD:PUBLISH
BEGIN:VEVENT
UID:71794-20260112@miltonparishcouncil.gov.uk
DTSTAMP:20260425T133615Z
DTSTART;VALUE=DATE:20260112
DTEND;VALUE=DATE:20260113
SUMMARY:Finance and Administration 12 January 2026 at 7:30pm
DESCRIPTION:Finance &amp; Administration Meeting\nView details: https://miltonparishcouncil.gov.uk/meetings/finance-and-administration-at-730pm/
URL:https://miltonparishcouncil.gov.uk/meetings/finance-and-administration-at-730pm/
END:VEVENT
END:VCALENDAR
