BEGIN:VCALENDAR
VERSION:2.0
PRODID:-//Milton Parish Council//Meeting Calendar//EN
CALSCALE:GREGORIAN
METHOD:PUBLISH
BEGIN:VEVENT
UID:71153-20251215@miltonparishcouncil.gov.uk
DTSTAMP:20260425T133718Z
DTSTART;VALUE=DATE:20251215
DTEND;VALUE=DATE:20251216
SUMMARY:Maintenance Meeting 15th December 7.30pm
DESCRIPTION:Maintenance Meeting\nView details: https://miltonparishcouncil.gov.uk/meetings/maintenance-meeting-15th-december-7-30pm/
URL:https://miltonparishcouncil.gov.uk/meetings/maintenance-meeting-15th-december-7-30pm/
END:VEVENT
END:VCALENDAR
