BEGIN:VCALENDAR
VERSION:2.0
PRODID:-//Milton Parish Council//Meeting Calendar//EN
CALSCALE:GREGORIAN
METHOD:PUBLISH
BEGIN:VEVENT
UID:71134-20250616@miltonparishcouncil.gov.uk
DTSTAMP:20260425T134403Z
DTSTART;VALUE=DATE:20250616
DTEND;VALUE=DATE:20250617
SUMMARY:Maintenance Meeting 16th June 7.45pm
DESCRIPTION:Maintenance Meeting\nView details: https://miltonparishcouncil.gov.uk/meetings/maintenance-meeting-16th-june-7-45pm/
URL:https://miltonparishcouncil.gov.uk/meetings/maintenance-meeting-16th-june-7-45pm/
END:VEVENT
END:VCALENDAR
