BEGIN:VCALENDAR
VERSION:2.0
PRODID:-//Milton Parish Council//Meeting Calendar//EN
CALSCALE:GREGORIAN
METHOD:PUBLISH
BEGIN:VEVENT
UID:71099-20250317@miltonparishcouncil.gov.uk
DTSTAMP:20260425T153406Z
DTSTART;VALUE=DATE:20250317
DTEND;VALUE=DATE:20250318
SUMMARY:Maintenance Meeting 17 March 2025
DESCRIPTION:Maintenance Meeting\nView details: https://miltonparishcouncil.gov.uk/meetings/maintenance-committee-meeting-17th-march-7-45pm/
URL:https://miltonparishcouncil.gov.uk/meetings/maintenance-committee-meeting-17th-march-7-45pm/
END:VEVENT
END:VCALENDAR
