BEGIN:VCALENDAR
VERSION:2.0
PRODID:-//Milton Parish Council//Meeting Calendar//EN
CALSCALE:GREGORIAN
METHOD:PUBLISH
BEGIN:VEVENT
UID:70854-20200101@miltonparishcouncil.gov.uk
DTSTAMP:20260425T151723Z
DTSTART;VALUE=DATE:20200101
DTEND;VALUE=DATE:20200102
SUMMARY:Maintenance Committee Meetings &#8211\\; 2020
DESCRIPTION:Maintenance Meeting\nView details: https://miltonparishcouncil.gov.uk/meetings/maintenance-committee-meetings-2020/
URL:https://miltonparishcouncil.gov.uk/meetings/maintenance-committee-meetings-2020/
END:VEVENT
END:VCALENDAR
