BEGIN:VCALENDAR
VERSION:2.0
PRODID:-//Milton Parish Council//Meeting Calendar//EN
CALSCALE:GREGORIAN
METHOD:PUBLISH
BEGIN:VEVENT
UID:70718-20220101@miltonparishcouncil.gov.uk
DTSTAMP:20260425T133711Z
DTSTART;VALUE=DATE:20220101
DTEND;VALUE=DATE:20220102
SUMMARY:Annual Parish Meeting &#8211\\; April 2022
DESCRIPTION:Annual Parish Meeting\nView details: https://miltonparishcouncil.gov.uk/meetings/annual-parish-meeting-april-2022/
URL:https://miltonparishcouncil.gov.uk/meetings/annual-parish-meeting-april-2022/
END:VEVENT
END:VCALENDAR
