BEGIN:VCALENDAR
VERSION:2.0
PRODID:-//Milton Parish Council//Meeting Calendar//EN
CALSCALE:GREGORIAN
METHOD:PUBLISH
BEGIN:VEVENT
UID:70715-20220101@miltonparishcouncil.gov.uk
DTSTAMP:20260425T140024Z
DTSTART;VALUE=DATE:20220101
DTEND;VALUE=DATE:20220102
SUMMARY:Cemetery Committee Meetings &#8211\\; 2022
DESCRIPTION:Cemetery Meeting\nView details: https://miltonparishcouncil.gov.uk/meetings/cemetery-committee-meetings-2022/
URL:https://miltonparishcouncil.gov.uk/meetings/cemetery-committee-meetings-2022/
END:VEVENT
END:VCALENDAR
