BEGIN:VCALENDAR
VERSION:2.0
PRODID:-//Milton Parish Council//Meeting Calendar//EN
CALSCALE:GREGORIAN
METHOD:PUBLISH
BEGIN:VEVENT
UID:70507-20240401@miltonparishcouncil.gov.uk
DTSTAMP:20260425T133525Z
DTSTART;VALUE=DATE:20240401
DTEND;VALUE=DATE:20240402
SUMMARY:Annual Parish Meeting &#8211\\; April 2024
DESCRIPTION:Annual Parish Meeting\nView details: https://miltonparishcouncil.gov.uk/meetings/annual-parish-meeting-april-2024/
URL:https://miltonparishcouncil.gov.uk/meetings/annual-parish-meeting-april-2024/
END:VEVENT
END:VCALENDAR
