BEGIN:VCALENDAR
VERSION:2.0
PRODID:-//Milton Parish Council//Meeting Calendar//EN
CALSCALE:GREGORIAN
METHOD:PUBLISH
BEGIN:VEVENT
UID:70504-20240401@miltonparishcouncil.gov.uk
DTSTAMP:20260425T140923Z
DTSTART;VALUE=DATE:20240401
DTEND;VALUE=DATE:20240402
SUMMARY:Community Care Meeting &#8211\\; April 2024
DESCRIPTION:Community Care Meeting\nView details: https://miltonparishcouncil.gov.uk/meetings/community-care-committee-meeting-april-2024/
URL:https://miltonparishcouncil.gov.uk/meetings/community-care-committee-meeting-april-2024/
END:VEVENT
END:VCALENDAR
