BEGIN:VCALENDAR
VERSION:2.0
PRODID:-//Milton Parish Council//Meeting Calendar//EN
CALSCALE:GREGORIAN
METHOD:PUBLISH
BEGIN:VEVENT
UID:70477-20240701@miltonparishcouncil.gov.uk
DTSTAMP:20260425T140024Z
DTSTART;VALUE=DATE:20240701
DTEND;VALUE=DATE:20240702
SUMMARY:Community Care Meeting &#8211\\; July 2024
DESCRIPTION:Community Care Meeting\nView details: https://miltonparishcouncil.gov.uk/meetings/community-care-committee-meeting-july-2024/
URL:https://miltonparishcouncil.gov.uk/meetings/community-care-committee-meeting-july-2024/
END:VEVENT
END:VCALENDAR
